BEGIN:VCALENDAR
VERSION:2.0
PRODID:-//Hallockville Museum Farm - ECPv6.15.20//NONSGML v1.0//EN
CALSCALE:GREGORIAN
METHOD:PUBLISH
X-WR-CALNAME:Hallockville Museum Farm
X-ORIGINAL-URL:https://hallockville.org
X-WR-CALDESC:Events for Hallockville Museum Farm
REFRESH-INTERVAL;VALUE=DURATION:PT1H
X-Robots-Tag:noindex
X-PUBLISHED-TTL:PT1H
BEGIN:VTIMEZONE
TZID:America/New_York
BEGIN:DAYLIGHT
TZOFFSETFROM:-0500
TZOFFSETTO:-0400
TZNAME:EDT
DTSTART:20240310T070000
END:DAYLIGHT
BEGIN:STANDARD
TZOFFSETFROM:-0400
TZOFFSETTO:-0500
TZNAME:EST
DTSTART:20241103T060000
END:STANDARD
BEGIN:DAYLIGHT
TZOFFSETFROM:-0500
TZOFFSETTO:-0400
TZNAME:EDT
DTSTART:20250309T070000
END:DAYLIGHT
BEGIN:STANDARD
TZOFFSETFROM:-0400
TZOFFSETTO:-0500
TZNAME:EST
DTSTART:20251102T060000
END:STANDARD
BEGIN:DAYLIGHT
TZOFFSETFROM:-0500
TZOFFSETTO:-0400
TZNAME:EDT
DTSTART:20260308T070000
END:DAYLIGHT
BEGIN:STANDARD
TZOFFSETFROM:-0400
TZOFFSETTO:-0500
TZNAME:EST
DTSTART:20261101T060000
END:STANDARD
END:VTIMEZONE
BEGIN:VEVENT
DTSTART;TZID=America/New_York:20251101T130000
DTEND;TZID=America/New_York:20251101T160000
DTSTAMP:20260419T081801
CREATED:20250926T151315Z
LAST-MODIFIED:20250927T000109Z
UID:17244-1762002000-1762012800@hallockville.org
SUMMARY:Jam Making Workshop
DESCRIPTION:Imagine a world without freezers\, fridges\, and grocery stores. This was the reality for the Hallocks before electricity was brought to the homestead in the mid 1900s.  To ensure food throughout the winter farmers used many techniques to preserve their summer harvests. Join us in learn one of these food preserving techniques… making and canning jam. \n  \nThroughout this  hands on workshop Gabi Spielmann will take you through the process of canning\, from berry to shelf stable jam. You will leave with your very own jar of berry jam and the knowledge to continue to make preserves in your home kitchen. \n  \nClass fee: $25  Members\, $30 Non- Members \n  \nRegister Here:  https://secure.lglforms.com/form_engine/s/J5uPS6lzUkzcHmCVIUlQAg \n  \n 
URL:https://hallockville.org/events/jam-making-workshop/
LOCATION:Hallockville Museum Farm\, 6038 Sound Avenue\, Riverhead\, NY\, 11901\, United States
ATTACH;FMTTYPE=image/jpeg:https://hallockville.org/wp-content/uploads/2025/09/IMG_3893-rotated.jpeg
END:VEVENT
BEGIN:VEVENT
DTSTART;TZID=America/New_York:20251105T100000
DTEND;TZID=America/New_York:20251105T130000
DTSTAMP:20260419T081801
CREATED:20250904T133130Z
LAST-MODIFIED:20250904T133130Z
UID:16894-1762336800-1762347600@hallockville.org
SUMMARY:Sound Avenue Stitchers Get-Together
DESCRIPTION:Craftwork has been among the activities at Hallockville since its beginning\, and the Sound Avenue Stitchers\, a group created for sharing and continuing the fiber arts tradition\, are an integral part of it. Fiber arts include sewing\, quilting\, needlepoint\, macrame\, weaving\, felting\, crocheting\, knitting\, embroidery\, rug hooking and basket weaving. The group’s mission is to share techniques\, innovations\, products and upcoming events pertaining to fiber arts and to socialize while working on their projects. \nThe Stitchers meet at the Hudson-Sydlowski House meeting room on the first Wednesday of each month from 10 a.m. to 1 p.m. All are welcome to join\, just come on by! 
URL:https://hallockville.org/events/sound-avenue-stitchers-get-together/
LOCATION:Hudson-Sydlowski House\, 6038 Sound Avenue\, Riverhead\, NY\, 11901-5609\, United States
CATEGORIES:Basket Weaving,Crochet,Embroidery,Free,Knitting,Needlework,Quilting,Rug Hooking,Textiles,Traditional Craft,Weaving
END:VEVENT
BEGIN:VEVENT
DTSTART;TZID=America/New_York:20251114T170000
DTEND;TZID=America/New_York:20251114T190000
DTSTAMP:20260419T081801
CREATED:20251027T182406Z
LAST-MODIFIED:20251027T182457Z
UID:17307-1763139600-1763146800@hallockville.org
SUMMARY:*Rhythms of the Terroir: Cycles From Our Earth by Rites of Spring Music Festival*
DESCRIPTION:Join Rites of Spring Music Festival as they Present Rhythms  of the Terroir: Cycles From Our Earth. \nThis is a live concert that explores traditional Italian folk music\, music created in or about New York\, and South Indian konnakol rhythm cycles with the overall theme of connecting to our Earth. \nMusician include: \nOlivia Foschi – Vocals \nAda Rovatti – Tenor Saxophone \nGuilherme Monteiro – Guitar \nMauricio Zottarelli – Cajon/ Percussion \nNovember 14th at 5:00pm in Naugles Barn \nTicket Prices: Friends of Rites of Spring Music Festival and members of Hallockville Museum Farm: $40/person\, General Admission: $50/ person \nGet tickets through Rites of Spring Music Festival at https://www.ritesmusic.org/cycles-from-our-earth-date-november-14-2025.html
URL:https://hallockville.org/events/rhythms-of-the-terroir-cycles-from-our-earth-by-rites-of-spring-music-festival/
LOCATION:Hallockville Museum Farm\, 6038 Sound Avenue\, Riverhead\, NY\, 11901\, United States
ATTACH;FMTTYPE=image/jpeg:https://hallockville.org/wp-content/uploads/2025/10/IMG_4323.jpg
END:VEVENT
BEGIN:VEVENT
DTSTART;TZID=America/New_York:20251115T140000
DTEND;TZID=America/New_York:20251115T160000
DTSTAMP:20260419T081801
CREATED:20250828T151400Z
LAST-MODIFIED:20251104T010227Z
UID:16862-1763215200-1763222400@hallockville.org
SUMMARY:"Get Arty" Paint Party
DESCRIPTION:“Get Arty” with us for a two-hour paint party and connect to your inner artist with Ginger Baer\, a certified art instructor\, at our historical Naugles Barn. \n“Get Arty” instruction promotes self-expression so every 11″ x 14″ canvas artwork will be unique. All materials are provided. No creative or artistic skills are needed! \nLight refreshments will be served. \n$35 members\, $40 non-members \nTo register\, click here: https://secure.lglforms.com/form_engine/s/fRBom_zSOD07O88WB41lPQ
URL:https://hallockville.org/events/get-arty-paint-party-2/
LOCATION:Hallockville Museum Farm – Naugles Barn\, 6038 Sound Ave\, Riverhead\, NY\, 11901\, United States
CATEGORIES:Art,Classes
ATTACH;FMTTYPE=image/jpeg:https://hallockville.org/wp-content/uploads/2025/08/IMG_3557.jpg
END:VEVENT
BEGIN:VEVENT
DTSTART;TZID=America/New_York:20251122T093000
DTEND;TZID=America/New_York:20251122T123000
DTSTAMP:20260419T081801
CREATED:20250815T161332Z
LAST-MODIFIED:20251121T231344Z
UID:16784-1763803800-1763814600@hallockville.org
SUMMARY:Fall Clean Up Day: Rain or Shine we will be here.
DESCRIPTION:Come help us clean up from the busy summer and fall seasons and get Hallockville ready for the winter. \nPlease bring a rake and work gloves\, if possible. \nLight refreshments and pizza available for volunteers. \nRain or Shine we will be here. \nEmail Lillian@hallockville.org if you would plan to attend
URL:https://hallockville.org/events/fall-clean-up-day/
END:VEVENT
BEGIN:VEVENT
DTSTART;TZID=America/New_York:20251128T090000
DTEND;TZID=America/New_York:20251128T150000
DTSTAMP:20260419T081801
CREATED:20250708T140756Z
LAST-MODIFIED:20250708T140756Z
UID:16695-1764320400-1764342000@hallockville.org
SUMMARY: Country Parlor - Folk Art and Gift Show
DESCRIPTION:Country Parlor  Folk Art and Gift Show returns to the North Fork for one weekend only\, back in the Naugles Barn \nVisit Hallockville Museum Farm and experience the transformation of its historic barn into a holiday wonderland and unique shopping experience. The Hallockville Country Parlor features exclusively handcrafted gift items\, artwork\, and holiday décor created by local artisans and craftspeople. Among the array of beautiful\, authentic handmade items will be pottery; baskets; tree ornaments; quilted\, knit\, and woven apparel and home décor; paintings; candles; soaps; and much more!
URL:https://hallockville.org/events/country-parlor-folk-art-and-gift-show/
LOCATION:Hallockville Museum Farm – Naugles Barn\, 6038 Sound Ave\, Riverhead\, NY\, 11901\, United States
END:VEVENT
BEGIN:VEVENT
DTSTART;TZID=America/New_York:20251129T100000
DTEND;TZID=America/New_York:20251129T150000
DTSTAMP:20260419T081801
CREATED:20250708T140844Z
LAST-MODIFIED:20250708T140844Z
UID:16698-1764410400-1764428400@hallockville.org
SUMMARY: Country Parlor - Folk Art and Gift Show
DESCRIPTION:Country Parlor  Folk Art and Gift Show returns to the North Fork for one weekend only\, back in the Naugles Barn \nVisit Hallockville Museum Farm and experience the transformation of its historic barn into a holiday wonderland and unique shopping experience. The Hallockville Country Parlor features exclusively handcrafted gift items\, artwork\, and holiday décor created by local artisans and craftspeople. Among the array of beautiful\, authentic handmade items will be pottery; baskets; tree ornaments; quilted\, knit\, and woven apparel and home décor; paintings; candles; soaps; and much more!
URL:https://hallockville.org/events/country-parlor-folk-art-and-gift-show-2/
LOCATION:Hallockville Museum Farm – Naugles Barn\, 6038 Sound Ave\, Riverhead\, NY\, 11901\, United States
END:VEVENT
BEGIN:VEVENT
DTSTART;TZID=America/New_York:20251130T100000
DTEND;TZID=America/New_York:20251130T150000
DTSTAMP:20260419T081801
CREATED:20250708T140914Z
LAST-MODIFIED:20250708T141039Z
UID:16699-1764496800-1764514800@hallockville.org
SUMMARY: Country Parlor - Folk Art and Gift Show
DESCRIPTION:Country Parlor  Folk Art and Gift Show returns to the North Fork for one weekend only\, back in the Naugles Barn \nVisit Hallockville Museum Farm and experience the transformation of its historic barn into a holiday wonderland and unique shopping experience. The Hallockville Country Parlor features exclusively handcrafted gift items\, artwork\, and holiday décor created by local artisans and craftspeople. Among the array of beautiful\, authentic handmade items will be pottery; baskets; tree ornaments; quilted\, knit\, and woven apparel and home décor; paintings; candles; soaps; and much more!
URL:https://hallockville.org/events/country-parlor-folk-art-and-gift-show-3/
LOCATION:Hallockville Museum Farm – Naugles Barn\, 6038 Sound Ave\, Riverhead\, NY\, 11901\, United States
END:VEVENT
END:VCALENDAR