BEGIN:VCALENDAR
VERSION:2.0
PRODID:-//Hallockville Museum Farm - ECPv6.15.20//NONSGML v1.0//EN
CALSCALE:GREGORIAN
METHOD:PUBLISH
X-ORIGINAL-URL:https://hallockville.org
X-WR-CALDESC:Events for Hallockville Museum Farm
REFRESH-INTERVAL;VALUE=DURATION:PT1H
X-Robots-Tag:noindex
X-PUBLISHED-TTL:PT1H
BEGIN:VTIMEZONE
TZID:America/New_York
BEGIN:DAYLIGHT
TZOFFSETFROM:-0500
TZOFFSETTO:-0400
TZNAME:EDT
DTSTART:20240310T070000
END:DAYLIGHT
BEGIN:STANDARD
TZOFFSETFROM:-0400
TZOFFSETTO:-0500
TZNAME:EST
DTSTART:20241103T060000
END:STANDARD
BEGIN:DAYLIGHT
TZOFFSETFROM:-0500
TZOFFSETTO:-0400
TZNAME:EDT
DTSTART:20250309T070000
END:DAYLIGHT
BEGIN:STANDARD
TZOFFSETFROM:-0400
TZOFFSETTO:-0500
TZNAME:EST
DTSTART:20251102T060000
END:STANDARD
BEGIN:DAYLIGHT
TZOFFSETFROM:-0500
TZOFFSETTO:-0400
TZNAME:EDT
DTSTART:20260308T070000
END:DAYLIGHT
BEGIN:STANDARD
TZOFFSETFROM:-0400
TZOFFSETTO:-0500
TZNAME:EST
DTSTART:20261101T060000
END:STANDARD
END:VTIMEZONE
BEGIN:VEVENT
DTSTART;TZID=America/New_York:20250806T100000
DTEND;TZID=America/New_York:20250806T130000
DTSTAMP:20260419T123912
CREATED:20250505T192719Z
LAST-MODIFIED:20250505T192802Z
UID:16362-1754474400-1754485200@hallockville.org
SUMMARY:Sound Avenue Stitchers Get-Together
DESCRIPTION:Craftwork has been among the activities at Hallockville since its beginning\, and the Sound Avenue Stitchers\, a group created for sharing and continuing the fiber arts tradition\, are an integral part of it. Fiber arts include sewing\, quilting\, needlepoint\, macrame\, weaving\, felting\, crocheting\, knitting\, embroidery\, rug hooking and basket weaving. The group’s mission is to share techniques\, innovations\, products and upcoming events pertaining to fiber arts and to socialize while working on their projects. \nThe Stitchers meet at the Hudson-Sydlowski House meeting room on the first Wednesday of each month from 10 a.m. to 1 p.m. All are welcome to join\, just come on by! 
URL:https://hallockville.org/events/16362/
LOCATION:Hudson-Sydlowski House\, 6038 Sound Avenue\, Riverhead\, NY\, 11901-5609\, United States
CATEGORIES:Crochet,Embroidery,Free,Knitting,Needlework,Quilting,Rug Hooking,Spinning,Textiles,Traditional Craft,Weaving
END:VEVENT
BEGIN:VEVENT
DTSTART;TZID=America/New_York:20250814T173000
DTEND;TZID=America/New_York:20250814T203000
DTSTAMP:20260419T123912
CREATED:20250701T220506Z
LAST-MODIFIED:20250701T220506Z
UID:16672-1755192600-1755203400@hallockville.org
SUMMARY:Old Time Jam
DESCRIPTION:Join the Old Time Jam as they play old time Appalachian music in The Apple Orchard!\n\n\nThe Old Time Jam is a group of musicians ranging from beginners to professional performers\, everyone is welcome! \n\nAnyone who plays an old time acoustic instruments (fiddle\, banjo\, mandolin\, dulcimer\, guitar or even play the spoons or washboards) or sings may join in. Folks may also come to listen or dance to the music. \nEmail Toni at Lonedoggy@netzero.com with any questions. \n(Photo taken by Ken Eddy)
URL:https://hallockville.org/events/old-time-jam-3/
LOCATION:Hallockville Museum Farm\, 6038 Sound Avenue\, Riverhead\, NY\, 11901\, United States
CATEGORIES:Music
ATTACH;FMTTYPE=image/jpeg:https://hallockville.org/wp-content/uploads/2025/04/otj-e1744561341656.jpg
END:VEVENT
BEGIN:VEVENT
DTSTART;TZID=America/New_York:20250821T180000
DTEND;TZID=America/New_York:20250821T220000
DTSTAMP:20260419T123912
CREATED:20241218T184028Z
LAST-MODIFIED:20250409T184157Z
UID:15696-1755799200-1755813600@hallockville.org
SUMMARY:50th Anniversary Gala
DESCRIPTION:  \nSee the 50th Anniversary Gala tab for more information.
URL:https://hallockville.org/events/annual-fundraiser/
LOCATION:Giorgio’s Baiting Hollow\, 100 Fox Hill Dr\, Baiting Hollow\, NY\, 11933
ATTACH;FMTTYPE=image/jpeg:https://hallockville.org/wp-content/uploads/2024/12/Image-4-9-25-at-2.36-PM-e1744224095775.jpeg
END:VEVENT
BEGIN:VEVENT
DTSTART;TZID=America/New_York:20250827T183000
DTEND;TZID=America/New_York:20250827T203000
DTSTAMP:20260419T123912
CREATED:20250517T174614Z
LAST-MODIFIED:20250804T142834Z
UID:16546-1756319400-1756326600@hallockville.org
SUMMARY:"Get Arty" Paint Party
DESCRIPTION:“Get Arty” with us for a two-hour paint party and connect to your inner artist with Ginger Baer\, a certified art instructor\, at our historical Naugles Barn. \n“Get Arty” instruction promotes self-expression so every 11″ x 14″ canvas artwork will be unique. All materials are provided. No creative or artistic skills are needed! \nLight refreshments will be served. \n$35 members\, $40 non-members \nTo register\, click here: https://secure.lglforms.com/form_engine/s/ZHnW-ZRmcNqJgELhBhENuQ
URL:https://hallockville.org/events/get-arty-paint-party/
LOCATION:Hallockville Museum Farm – Naugles Barn\, 6038 Sound Ave\, Riverhead\, NY\, 11901\, United States
CATEGORIES:Art,Classes
END:VEVENT
BEGIN:VEVENT
DTSTART;TZID=America/New_York:20250828T173000
DTEND;TZID=America/New_York:20250828T203000
DTSTAMP:20260419T123912
CREATED:20250701T220533Z
LAST-MODIFIED:20250701T220533Z
UID:16675-1756402200-1756413000@hallockville.org
SUMMARY:Old Time Jam
DESCRIPTION:Join the Old Time Jam as they play old time Appalachian music in The Apple Orchard!\n\n\nThe Old Time Jam is a group of musicians ranging from beginners to professional performers\, everyone is welcome! \n\nAnyone who plays an old time acoustic instruments (fiddle\, banjo\, mandolin\, dulcimer\, guitar or even play the spoons or washboards) or sings may join in. Folks may also come to listen or dance to the music. \nEmail Toni at Lonedoggy@netzero.com with any questions. \n(Photo taken by Ken Eddy)
URL:https://hallockville.org/events/old-time-jam-4/
LOCATION:Hallockville Museum Farm\, 6038 Sound Avenue\, Riverhead\, NY\, 11901\, United States
CATEGORIES:Music
ATTACH;FMTTYPE=image/jpeg:https://hallockville.org/wp-content/uploads/2025/04/otj-e1744561341656.jpg
END:VEVENT
BEGIN:VEVENT
DTSTART;TZID=America/New_York:20250830T100000
DTEND;TZID=America/New_York:20250830T160000
DTSTAMP:20260419T123912
CREATED:20250711T162955Z
LAST-MODIFIED:20250728T222026Z
UID:16711-1756548000-1756569600@hallockville.org
SUMMARY:Garden Goddess Gathering Basket Workshop
DESCRIPTION:Join Basket Weaver Barbara Blossey-Chuvalas\, August 30th 10am – 4pm\, in the Hudson-Sydlowski House here at Hallockville Museum Farm. \nMake your own Garden Goddess Gathering Basket\, a lovely basket for your fall harvest with plenty of room for veggies and flowers. \nPlease bring a $48 materials fee to be given to the instructor on arrival. Please bring scissors\, clothes pins\, spray bottle and ruler. \nLight refreshments will be served. \nClass fee: $50 for Members and $60 for Non-Members \nRegister here: https://secure.lglforms.com/form_engine/s/wlGjeveIMqbqoAdbv-_KBQ
URL:https://hallockville.org/events/garden-goddess-gathering-basket-workshop/
LOCATION:Hallockville Museum Farm\, 6038 Sound Avenue\, Riverhead\, NY\, 11901\, United States
ATTACH;FMTTYPE=image/heic:https://hallockville.org/wp-content/uploads/2025/07/garden-goodest.jpg
END:VEVENT
END:VCALENDAR