BEGIN:VCALENDAR
VERSION:2.0
PRODID:-//Hallockville Museum Farm - ECPv6.15.20//NONSGML v1.0//EN
CALSCALE:GREGORIAN
METHOD:PUBLISH
X-ORIGINAL-URL:https://hallockville.org
X-WR-CALDESC:Events for Hallockville Museum Farm
REFRESH-INTERVAL;VALUE=DURATION:PT1H
X-Robots-Tag:noindex
X-PUBLISHED-TTL:PT1H
BEGIN:VTIMEZONE
TZID:America/New_York
BEGIN:DAYLIGHT
TZOFFSETFROM:-0500
TZOFFSETTO:-0400
TZNAME:EDT
DTSTART:20240310T070000
END:DAYLIGHT
BEGIN:STANDARD
TZOFFSETFROM:-0400
TZOFFSETTO:-0500
TZNAME:EST
DTSTART:20241103T060000
END:STANDARD
BEGIN:DAYLIGHT
TZOFFSETFROM:-0500
TZOFFSETTO:-0400
TZNAME:EDT
DTSTART:20250309T070000
END:DAYLIGHT
BEGIN:STANDARD
TZOFFSETFROM:-0400
TZOFFSETTO:-0500
TZNAME:EST
DTSTART:20251102T060000
END:STANDARD
BEGIN:DAYLIGHT
TZOFFSETFROM:-0500
TZOFFSETTO:-0400
TZNAME:EDT
DTSTART:20260308T070000
END:DAYLIGHT
BEGIN:STANDARD
TZOFFSETFROM:-0400
TZOFFSETTO:-0500
TZNAME:EST
DTSTART:20261101T060000
END:STANDARD
END:VTIMEZONE
BEGIN:VEVENT
DTSTART;TZID=America/New_York:20250503T100000
DTEND;TZID=America/New_York:20250503T120000
DTSTAMP:20260419T172252
CREATED:20250211T170041Z
LAST-MODIFIED:20250409T215829Z
UID:15893-1746266400-1746273600@hallockville.org
SUMMARY:Hive Split Workshop
DESCRIPTION:Postponed to May 3rd 10am-12am\nWho: New and seasoned beekeepers. \nWhere: Hallockville’s Hands-On Bee Lab (north end of the property beyond the community garden) \nWhat: Bring your own personal protective gear and equipment (bee suit/veil\, gloves\, smoker) \nWhy: If you have strong colonies and want to grow your apiary without paying for NUCS\, this workshop is for you! \nThis is also a great opportunity to meet local fellow beekeepers and get a feel for Hallockville’s hands-on Bee Lab! \nCost: $25 for HMF members\, $35 for non-members \n  \nTo register\, click here: https://secure.lglforms.com/form_engine/s/KmGqANcSbEBARRD39Lruhw
URL:https://hallockville.org/events/hive-split-workshop/
LOCATION:Hallockville Bee Lab\, 6038 Sound Avenue\, Riverhead\, NY\, 11901-5609\, United States
CATEGORIES:Beekeeping
ATTACH;FMTTYPE=image/jpeg:https://hallockville.org/wp-content/uploads/2025/02/hives.jpg
END:VEVENT
BEGIN:VEVENT
DTSTART;TZID=America/New_York:20250503T130000
DTEND;TZID=America/New_York:20250503T150000
DTSTAMP:20260419T172252
CREATED:20250122T193448Z
LAST-MODIFIED:20250502T192312Z
UID:15785-1746277200-1746284400@hallockville.org
SUMMARY:Workshop - Penny Rugs
DESCRIPTION:May 3\n1:00 p.m. – 3:00 p.m.\nLearn the history of the Penny Rug. This primitive hand-crafted table covering dates back to the 1700s and became popular in the 1800s. Wool felted circles are sewn in layers to a base fabric using simple embroidered stiches to create this colorful family heirloom. Start by choosing a traditional design or kick it up a notch and choose a pattern with a contemporary twist.\nInstructor: Diane Schwindt\nSupplies fee of $10 payable to instructor. Please bring sharp scissors.\n$35 members\, $40 non-members\nTo register\, click here: https://secure.lglforms.com/form_engine/s/Mjb6fcEErnA3y2xAYpTzhg
URL:https://hallockville.org/events/2025-workshop-penny-rugs/
LOCATION:Hudson-Sydlowski House\, 6038 Sound Avenue\, Riverhead\, NY\, 11901-5609\, United States
END:VEVENT
BEGIN:VEVENT
DTSTART;TZID=America/New_York:20250508T173000
DTEND;TZID=America/New_York:20250508T203000
DTSTAMP:20260419T172252
CREATED:20250413T163014Z
LAST-MODIFIED:20250414T132511Z
UID:16305-1746725400-1746736200@hallockville.org
SUMMARY:Old Time Jam
DESCRIPTION:Join the Old Time Jam as they play old time Appalachian music in The Homestead Barn!\n\n\nThe Old Time Jam is a group of musicians ranging from beginners to professional performers\, everyone is welcome! \n\nAnyone who plays an old time acoustic instruments (fiddle\, banjo\, mandolin\, dulcimer\, guitar or even play the spoons or washboards) or sings may join in. Folks may also come to listen or dance to the music. \nEmail Toni at Lonedoggy@netzero.com with any questions. \n(Photo taken by Ken Eddy)
URL:https://hallockville.org/events/old-time-jam-8/
LOCATION:Hallockville Homestead Barn\, 6038 Sound Ave\, Riverhead\, NY\, 11901\, United States
CATEGORIES:Music
ATTACH;FMTTYPE=image/jpeg:https://hallockville.org/wp-content/uploads/2025/04/otj-e1744561341656.jpg
END:VEVENT
BEGIN:VEVENT
DTSTART;TZID=America/New_York:20250510T130000
DTEND;TZID=America/New_York:20250510T150000
DTSTAMP:20260419T172252
CREATED:20250331T190407Z
LAST-MODIFIED:20250331T191411Z
UID:16052-1746882000-1746889200@hallockville.org
SUMMARY:A Farm Family on Long Island's North Fork
DESCRIPTION:Join us for a presentation by Hallockville Board Member Richard Wines about his recently released book\, A Farm Family on Long Island’s North Fork. Richard traces the history of our vital agricultural community here on the North Fork through the story of the last family to live in the old Homestead at Hallockville. For well over two centuries\, community members were almost all descendants of the same group of seventeenth-century Puritan founders. Yet\, despite their shared heritage and complex interrelationships\, cultural wars raged. Family members and the community divided bitterly on issue after issue\, ranging from whether to allow a melodeon into the church to supporting abolitionism. The community weathered many changes-the Civil War\, the emergence of new agricultural technologies\, the arrival of Eastern European immigrants\, even an attempt to build a string of nuclear power plants in the twentieth century. Wines’s deep dives into one community’s history uncover stories about slavery\, racism\, and prejudice that many have chosen to forget\, as well as stories of compassion or human tragedy we want to remember. \nSaturday\, May 10th at 1pm at the Hallock State Park Community Room (6062 Sound Avenue\, Riverhead) \nThis speaker series is free yet registration is required. Click here: https://secure.lglforms.com/form_engine/s/2LQROrjnOlEihKvsHY1_NQ \n 
URL:https://hallockville.org/events/a-farm-family-on-long-islands-north-fork/
LOCATION:Hallock State Park Preserve Visitors Center\, 6062 Sound Avenue\, Riverhead\, NY\, 11901\, United States
CATEGORIES:Farm Life,Farming History,Free,History,Lecture
ATTACH;FMTTYPE=image/jpeg:https://hallockville.org/wp-content/uploads/2025/03/richard-book.jpg
END:VEVENT
BEGIN:VEVENT
DTSTART;TZID=America/New_York:20250517T110000
DTEND;TZID=America/New_York:20250517T150000
DTSTAMP:20260419T172252
CREATED:20250410T192834Z
LAST-MODIFIED:20250411T192730Z
UID:16250-1747479600-1747494000@hallockville.org
SUMMARY:Fleece & Fiber Festival Workshop: Beginning Weaving TWO-DAY WORKSHOP
DESCRIPTION:This is a TWO-DAY workshop Saturday May 17th and Sunday May 18th\, 11am-3pm.\nJoin us for a Beginning Weaving Workshop given by the Paumanok Weavers Guild and hosted at Hallockville.\nStudents will have instruction on how to wind warp and set up multi-shaft looms on either floor or table top looms. Each student will have a loom to weave on and take turns on each of the pre-set up looms to create different\, colorful mug rugs (coasters) in a round robin format.  Students will learn different patterning using different fibers for unique effects.\nAt the end of the class all woven pieces will be cut off and finished off so students can take the  5-6 of their woven pieces home to enjoy. \nThis class promises that you will be ready for more weaving adventures. \nThe Event fee is $250. Register here: https://secure.lglforms.com/form_engine/s/ZB5oSU-jYDnnYPivI7euFA
URL:https://hallockville.org/events/beginning-weaving-workshop/
LOCATION:Hallockville Museum Farm – Trubisz House\, 6038 Sound Avenue\, Riverhead\, NY\, 11901
CATEGORIES:Weaving
END:VEVENT
BEGIN:VEVENT
DTSTART;TZID=America/New_York:20250517T130000
DTEND;TZID=America/New_York:20250517T153000
DTSTAMP:20260419T172252
CREATED:20250410T195416Z
LAST-MODIFIED:20250410T202005Z
UID:16265-1747486800-1747495800@hallockville.org
SUMMARY:Fleece & Fiber Festival Workshop: Crochet Nesting Baskets
DESCRIPTION:Looking to move beyond basic crochet blankets and scarves? Learn to whip up a set of these delightful and functional Nesting Baskets with us! \nStudents will learn techniques like the Magic Circle\, the invisible join\, and how to crochet in the round. Watch how different stitch techniques can change the direction of your work. \nStudents will need to bring a size H (5mm) and G (4mm) crochet hook to class. All other materials and yarn will be provided. \nStudents must already be familiar with basic crochet stitches. \nThe Class Fee is $55 (includes yarn and supplies). Register here:  https://secure.lglforms.com/form_engine/s/oJbdki8u8RrFgYZl-5D_8g
URL:https://hallockville.org/events/crochet-nesting-baskets-class/
LOCATION:Hallockville Museum Farm -Cichanowicz House\, 6038 Sound Ave\, Riverhead\, NY\, 11901\, United States
END:VEVENT
BEGIN:VEVENT
DTSTART;TZID=America/New_York:20250518T100000
DTEND;TZID=America/New_York:20250518T160000
DTSTAMP:20260419T172252
CREATED:20241218T181949Z
LAST-MODIFIED:20250515T200955Z
UID:15688-1747562400-1747584000@hallockville.org
SUMMARY:Fleece & Fiber Festival
DESCRIPTION:The annual Fleece & Fiber Festival features artisans sharing handmade items for sale as well as shearing\, spinning and weaving demonstrations\, live music\, special fiber-focused tours of the Hallock Homestead and more. Children’s activities\, too! SUNDAY\, MAY 18. $10. Children 12 and under are free. \n10 a.m. – 4 p.m.
URL:https://hallockville.org/events/fleece-fiber-festival-3/
CATEGORIES:Crochet,Fairs,Knitting,Spinning,Textiles,Traditional Craft,Weaving
END:VEVENT
BEGIN:VEVENT
DTSTART;TZID=America/New_York:20250518T110000
DTEND;TZID=America/New_York:20250518T150000
DTSTAMP:20260419T172252
CREATED:20250413T135706Z
LAST-MODIFIED:20250413T144804Z
UID:16298-1747566000-1747580400@hallockville.org
SUMMARY:Fleece & Fiber Festival Workshop: Beginning Weaving TWO-DAY WORKSHOP
DESCRIPTION:This is a TWO-DAY workshop Saturday May 17th and Sunday May 18th\, 11am-3pm.\nJoin us for a Beginning Weaving Workshop given by the Paumanok Weavers Guild and hosted at Hallockville.\nStudents will have instruction on how to wind warp and set up multi-shaft looms on either floor or table top looms. Each student will have a loom to weave on and take turns on each of the pre-set up looms to create different\, colorful mug rugs (coasters) in a round robin format.  Students will learn different patterning using different fibers for unique effects.\nAt the end of the class all woven pieces will be cut off and finished off so students can take the  5-6 of their woven pieces home to enjoy. \nThis class promises that you will be ready for more weaving adventures. \nThe Event fee is $250 (covers entire workshop). Register here: https://secure.lglforms.com/form_engine/s/ZB5oSU-jYDnnYPivI7euFA
URL:https://hallockville.org/events/fleece-fiber-festival-workshop-beginning-weaving-two-day-workshop/
LOCATION:Hallockville Museum Farm – Trubisz House\, 6038 Sound Avenue\, Riverhead\, NY\, 11901
CATEGORIES:Weaving
END:VEVENT
BEGIN:VEVENT
DTSTART;TZID=America/New_York:20250522T173000
DTEND;TZID=America/New_York:20250522T203000
DTSTAMP:20260419T172252
CREATED:20250413T163212Z
LAST-MODIFIED:20250522T133210Z
UID:16315-1747935000-1747945800@hallockville.org
SUMMARY:Old Time Jam - at Riverhead Library tonight due to the weather
DESCRIPTION:Join the Old Time Jam as they play old time Appalachian music in The Homestead Barn!\n\n\nThe Old Time Jam is a group of musicians ranging from beginners to professional performers\, everyone is welcome! \n\nAnyone who plays an old time acoustic instruments (fiddle\, banjo\, mandolin\, dulcimer\, guitar or even play the spoons or washboards) or sings may join in. Folks may also come to listen or dance to the music. \nEmail Toni at Lonedoggy@netzero.com with any questions. \n(Photo taken by Ken Eddy)
URL:https://hallockville.org/events/old-time-jam-13/
LOCATION:Riverhead Library
CATEGORIES:Music
ATTACH;FMTTYPE=image/jpeg:https://hallockville.org/wp-content/uploads/2025/04/otj-e1744561341656.jpg
END:VEVENT
END:VCALENDAR