BEGIN:VCALENDAR
VERSION:2.0
PRODID:-//Hallockville Museum Farm - ECPv6.15.20//NONSGML v1.0//EN
CALSCALE:GREGORIAN
METHOD:PUBLISH
X-ORIGINAL-URL:https://hallockville.org
X-WR-CALDESC:Events for Hallockville Museum Farm
REFRESH-INTERVAL;VALUE=DURATION:PT1H
X-Robots-Tag:noindex
X-PUBLISHED-TTL:PT1H
BEGIN:VTIMEZONE
TZID:America/New_York
BEGIN:DAYLIGHT
TZOFFSETFROM:-0500
TZOFFSETTO:-0400
TZNAME:EDT
DTSTART:20250309T070000
END:DAYLIGHT
BEGIN:STANDARD
TZOFFSETFROM:-0400
TZOFFSETTO:-0500
TZNAME:EST
DTSTART:20251102T060000
END:STANDARD
BEGIN:DAYLIGHT
TZOFFSETFROM:-0500
TZOFFSETTO:-0400
TZNAME:EDT
DTSTART:20260308T070000
END:DAYLIGHT
BEGIN:STANDARD
TZOFFSETFROM:-0400
TZOFFSETTO:-0500
TZNAME:EST
DTSTART:20261101T060000
END:STANDARD
BEGIN:DAYLIGHT
TZOFFSETFROM:-0500
TZOFFSETTO:-0400
TZNAME:EDT
DTSTART:20270314T070000
END:DAYLIGHT
BEGIN:STANDARD
TZOFFSETFROM:-0400
TZOFFSETTO:-0500
TZNAME:EST
DTSTART:20271107T060000
END:STANDARD
END:VTIMEZONE
BEGIN:VEVENT
DTSTART;TZID=America/New_York:20260503T130000
DTEND;TZID=America/New_York:20260503T150000
DTSTAMP:20260419T124406
CREATED:20260120T183931Z
LAST-MODIFIED:20260120T183931Z
UID:17841-1777813200-1777820400@hallockville.org
SUMMARY:The True Story of the Culper Spy Ring Presentation
DESCRIPTION:Learn the true story of the Culper Spy Ring from former Newsday reporter Bill Bleyer\, author of George Washington’s Long Island Spy Ring: A History and Tour Guide. History enthusiasts have long been fascinated by the operation of the Long Island-based Culper Spy Ring during the American Revolution\, especially since the airing of the television series Turn. Over the years\, there have been many legends\, such as the role played by Anna Strong’s clothesline\, and speculations about how the spies operated to support George Washington’s Continental Army.  This PowerPoint presentation separates facts from fiction and details the ingenious operation of the intelligence network that helped the Patriots win the war. \nFree\, but registration is requested. To register\, visit: https://secure.lglforms.com/form_engine/s/5NddQhBw7UF4j3t2uZEBCQ
URL:https://hallockville.org/events/the-true-story-of-the-culper-spy-ring-presentation/
LOCATION:Hallockville Museum Farm – Naugles Barn\, 6038 Sound Ave\, Riverhead\, NY\, 11901\, United States
CATEGORIES:Free,History,Lecture
ATTACH;FMTTYPE=image/jpeg:https://hallockville.org/wp-content/uploads/2026/01/culper-image.jpg
END:VEVENT
BEGIN:VEVENT
DTSTART;TZID=America/New_York:20260506T100000
DTEND;TZID=America/New_York:20260506T130000
DTSTAMP:20260419T124406
CREATED:20260107T172822Z
LAST-MODIFIED:20260107T172822Z
UID:17638-1778061600-1778072400@hallockville.org
SUMMARY:Sound Avenue Stitchers
DESCRIPTION:The Sound Avenue Stitchers is a small\, friendly group created for sharing and continuing fiber arts traditions.  Fiber arts include sewing\, quilting\, needlepoint\, macrame\, weaving\, felting\, crocheting\, knitting\, embroidery\, rug hooking\, basket weaving and more.  Our group’s mission is to share techniques\, innovations and products\, upcoming events and shops pertaining to fiber arts\, and to socialize while working on our own projects.  We may have demonstrations by fellow stitchers and create items for donation. \nThe Stitchers meet at Hallockville Museum Farm\, in the Hudson-Sydlowski House meeting room\, on the first Wednesday of each month from 10 a.m. to 1 p.m.  Please join us for all things fiber arts and for fun conversations!
URL:https://hallockville.org/events/sound-avenue-stitchers-3/
ATTACH;FMTTYPE=image/png:https://hallockville.org/wp-content/uploads/2026/01/SSSpics.png
END:VEVENT
BEGIN:VEVENT
DTSTART;TZID=America/New_York:20260516T100000
DTEND;TZID=America/New_York:20260516T170000
DTSTAMP:20260419T124406
CREATED:20260114T201713Z
LAST-MODIFIED:20260415T165533Z
UID:17738-1778925600-1778950800@hallockville.org
SUMMARY:Fleece & Fiber Festival
DESCRIPTION:The annual Fleece & Fiber Festival features artisans sharing handmade items for sale as well as shearing\, spinning and weaving demonstrations\, live music\, special fiber-focused tours of the Hallock Homestead and more. Children’s activities\, too! \nWhen: Saturday May 16th 10 a.m. – 5 p.m. \nAdmission: $10. Children 12 and under are free. \nVisit the Fleece and Fiber fest page for more info and to register for the workshops: https://hallockville.org/fleece-and-fiber-fest/ \nVendor Application: https://secure.lglforms.com/form_engine/s/Wv67ZBrpIArseMMXWlSw4Q \nFood trucks: https://secure.lglforms.com/form_engine/s/7OCdggEOb1lozt2y-R18Mg
URL:https://hallockville.org/events/fleece-fiber-festival/
CATEGORIES:Crochet,Fairs,Knitting,Spinning,Textiles,Traditional Craft,Weaving
ATTACH;FMTTYPE=image/png:https://hallockville.org/wp-content/uploads/2026/01/ffff.png
END:VEVENT
BEGIN:VEVENT
DTSTART;TZID=America/New_York:20260603T100000
DTEND;TZID=America/New_York:20260603T130000
DTSTAMP:20260419T124406
CREATED:20260107T172900Z
LAST-MODIFIED:20260107T172900Z
UID:17639-1780480800-1780491600@hallockville.org
SUMMARY:Sound Avenue Stitchers
DESCRIPTION:The Sound Avenue Stitchers is a small\, friendly group created for sharing and continuing fiber arts traditions.  Fiber arts include sewing\, quilting\, needlepoint\, macrame\, weaving\, felting\, crocheting\, knitting\, embroidery\, rug hooking\, basket weaving and more.  Our group’s mission is to share techniques\, innovations and products\, upcoming events and shops pertaining to fiber arts\, and to socialize while working on our own projects.  We may have demonstrations by fellow stitchers and create items for donation. \nThe Stitchers meet at Hallockville Museum Farm\, in the Hudson-Sydlowski House meeting room\, on the first Wednesday of each month from 10 a.m. to 1 p.m.  Please join us for all things fiber arts and for fun conversations!
URL:https://hallockville.org/events/sound-avenue-stitchers-4/
ATTACH;FMTTYPE=image/png:https://hallockville.org/wp-content/uploads/2026/01/SSSpics.png
END:VEVENT
BEGIN:VEVENT
DTSTART;TZID=America/New_York:20260606T130000
DTEND;TZID=America/New_York:20260606T150000
DTSTAMP:20260419T124406
CREATED:20260116T174202Z
LAST-MODIFIED:20260416T184804Z
UID:17792-1780750800-1780758000@hallockville.org
SUMMARY:Annual Spring Tea - 2026
DESCRIPTION:Join us for our Annual Spring Tea in the historic Naugles Barn for a lovely afternoon of delectable savories\, sweets and assorted teas.\n\n\nTickets will be $45 for members and $50 for non-members. \n  \nFirst-come\, first-serve reservations. Seats are limited. \n  \nRegister here:https://secure.lglforms.com/form_engine/s/dSNC8zxPefotQQzNJJLd_g
URL:https://hallockville.org/events/annual-spring-tea-2026/
LOCATION:Hallockville Museum Farm\, 6038 Sound Avenue\, Riverhead\, NY\, 11901\, United States
ATTACH;FMTTYPE=image/jpeg:https://hallockville.org/wp-content/uploads/2026/01/teapot-1.jpg
END:VEVENT
BEGIN:VEVENT
DTSTART;TZID=America/New_York:20260701T100000
DTEND;TZID=America/New_York:20260701T130000
DTSTAMP:20260419T124406
CREATED:20260107T172941Z
LAST-MODIFIED:20260107T172941Z
UID:17637-1782900000-1782910800@hallockville.org
SUMMARY:Sound Avenue Stitchers
DESCRIPTION:The Sound Avenue Stitchers is a small\, friendly group created for sharing and continuing fiber arts traditions.  Fiber arts include sewing\, quilting\, needlepoint\, macrame\, weaving\, felting\, crocheting\, knitting\, embroidery\, rug hooking\, basket weaving and more.  Our group’s mission is to share techniques\, innovations and products\, upcoming events and shops pertaining to fiber arts\, and to socialize while working on our own projects.  We may have demonstrations by fellow stitchers and create items for donation. \nThe Stitchers meet at Hallockville Museum Farm\, in the Hudson-Sydlowski House meeting room\, on the first Wednesday of each month from 10 a.m. to 1 p.m.  Please join us for all things fiber arts and for fun conversations!
URL:https://hallockville.org/events/sound-avenue-stitchers-5/
ATTACH;FMTTYPE=image/png:https://hallockville.org/wp-content/uploads/2026/01/SSSpics.png
END:VEVENT
BEGIN:VEVENT
DTSTART;TZID=America/New_York:20260718T100000
DTEND;TZID=America/New_York:20260718T120000
DTSTAMP:20260419T124406
CREATED:20260115T205630Z
LAST-MODIFIED:20260115T212903Z
UID:17760-1784368800-1784376000@hallockville.org
SUMMARY:Needle Felting Bird Workshop
DESCRIPTION:Join instructor Michele Miroff\,  Saturday July 18 10 a.m. to noon\, to learn how to needle felt your very own Bird. \n$30 members\, $40 non-members. \n$25 supplies kit fee payable to instructor at the time of the workshop. \nRegister Here:https://secure.lglforms.com/form_engine/s/RuA-rbf-ToTKbngH6IIw1g
URL:https://hallockville.org/events/needle-felting-bird-workshop/
LOCATION:Hudson-Sydlowski House\, 6038 Sound Avenue\, Riverhead\, NY\, 11901-5609\, United States
ATTACH;FMTTYPE=image/jpeg:https://hallockville.org/wp-content/uploads/2026/01/IMG_4756-e1768510545336.jpeg
END:VEVENT
BEGIN:VEVENT
DTSTART;TZID=America/New_York:20260725T180000
DTEND;TZID=America/New_York:20260725T200000
DTSTAMP:20260419T124406
CREATED:20260114T202021Z
LAST-MODIFIED:20260114T202021Z
UID:17742-1785002400-1785009600@hallockville.org
SUMMARY:Summer Country Barn Dance
DESCRIPTION:Kick up your heels at this family-friendly event with live music and traditional dancing led by famed caller Chart Guthrie! \n  \nWhen: July 25 \, 6-8 p.m. in the historic Naugles Barn. \n  \nAdmission: $35 ages 13 and up\, $5 ages 5-12\, children under 5 are free.  \n  \nCheck back soon for Registration 
URL:https://hallockville.org/events/summer-country-barn-dance/
LOCATION:Hallockville Museum Farm – Naugles Barn\, 6038 Sound Ave\, Riverhead\, NY\, 11901\, United States
CATEGORIES:Dance
ATTACH;FMTTYPE=image/jpeg:https://hallockville.org/wp-content/uploads/2017/05/BarnDance1.jpg
END:VEVENT
BEGIN:VEVENT
DTSTART;TZID=America/New_York:20260805T100000
DTEND;TZID=America/New_York:20260805T130000
DTSTAMP:20260419T124406
CREATED:20260107T173523Z
LAST-MODIFIED:20260107T173523Z
UID:17647-1785924000-1785934800@hallockville.org
SUMMARY:Sound Avenue Stitchers
DESCRIPTION:The Sound Avenue Stitchers is a small\, friendly group created for sharing and continuing fiber arts traditions.  Fiber arts include sewing\, quilting\, needlepoint\, macrame\, weaving\, felting\, crocheting\, knitting\, embroidery\, rug hooking\, basket weaving and more.  Our group’s mission is to share techniques\, innovations and products\, upcoming events and shops pertaining to fiber arts\, and to socialize while working on our own projects.  We may have demonstrations by fellow stitchers and create items for donation. \nThe Stitchers meet at Hallockville Museum Farm\, in the Hudson-Sydlowski House meeting room\, on the first Wednesday of each month from 10 a.m. to 1 p.m.  Please join us for all things fiber arts and for fun conversations!
URL:https://hallockville.org/events/sound-avenue-stitchers-6/
ATTACH;FMTTYPE=image/png:https://hallockville.org/wp-content/uploads/2026/01/SSSpics.png
END:VEVENT
BEGIN:VEVENT
DTSTART;TZID=America/New_York:20261003T100000
DTEND;TZID=America/New_York:20261003T160000
DTSTAMP:20260419T124406
CREATED:20260114T201106Z
LAST-MODIFIED:20260407T143155Z
UID:17731-1791021600-1791043200@hallockville.org
SUMMARY:Country Fair
DESCRIPTION:October 3rd & 4th\, 10 a.m. to 4 p.m. \nCountry Fair is a longstanding tradition at Hallockville. \n  \nVendor Application: https://secure.lglforms.com/form_engine/s/Q8f04lEXoF6R7uHBqEdclQ \nFood Truck Application: https://secure.lglforms.com/form_engine/s/RgnBvxGL1wJAumv3OP5d6g \n 
URL:https://hallockville.org/events/country-fair/
LOCATION:Hallockville Museum Farm\, 6038 Sound Avenue\, Riverhead\, NY\, 11901\, United States
ATTACH;FMTTYPE=image/jpeg:https://hallockville.org/wp-content/uploads/2020/11/Hallockville-FullColor.jpg
END:VEVENT
BEGIN:VEVENT
DTSTART;TZID=America/New_York:20261004T100000
DTEND;TZID=America/New_York:20261004T160000
DTSTAMP:20260419T124406
CREATED:20260114T201203Z
LAST-MODIFIED:20260407T143238Z
UID:17735-1791108000-1791129600@hallockville.org
SUMMARY:Country Fair
DESCRIPTION:October 3rd -4th\, 10 a.m. to 4 p.m. \nCountry Fair is a longstanding tradition at Hallockville. \nVendor Application: https://secure.lglforms.com/form_engine/s/Q8f04lEXoF6R7uHBqEdclQ \nFood Truck Application: https://secure.lglforms.com/form_engine/s/RgnBvxGL1wJAumv3OP5d6g \n 
URL:https://hallockville.org/events/country-fair-4/
LOCATION:Hallockville Museum Farm\, 6038 Sound Avenue\, Riverhead\, NY\, 11901\, United States
ATTACH;FMTTYPE=image/jpeg:https://hallockville.org/wp-content/uploads/2020/11/Hallockville-FullColor.jpg
END:VEVENT
BEGIN:VEVENT
DTSTART;TZID=America/New_York:20261007T100000
DTEND;TZID=America/New_York:20261007T130000
DTSTAMP:20260419T124406
CREATED:20260107T175933Z
LAST-MODIFIED:20260107T175933Z
UID:17650-1791367200-1791378000@hallockville.org
SUMMARY:Sound Avenue Stitchers
DESCRIPTION:The Sound Avenue Stitchers is a small\, friendly group created for sharing and continuing fiber arts traditions.  Fiber arts include sewing\, quilting\, needlepoint\, macrame\, weaving\, felting\, crocheting\, knitting\, embroidery\, rug hooking\, basket weaving and more.  Our group’s mission is to share techniques\, innovations and products\, upcoming events and shops pertaining to fiber arts\, and to socialize while working on our own projects.  We may have demonstrations by fellow stitchers and create items for donation. \nThe Stitchers meet at Hallockville Museum Farm\, in the Hudson-Sydlowski House meeting room\, on the first Wednesday of each month from 10 a.m. to 1 p.m.  Please join us for all things fiber arts and for fun conversations!
URL:https://hallockville.org/events/sound-avenue-stitchers-7/
ATTACH;FMTTYPE=image/png:https://hallockville.org/wp-content/uploads/2026/01/SSSpics.png
END:VEVENT
BEGIN:VEVENT
DTSTART;TZID=America/New_York:20261104T100000
DTEND;TZID=America/New_York:20261104T130000
DTSTAMP:20260419T124406
CREATED:20260107T180026Z
LAST-MODIFIED:20260107T180026Z
UID:17653-1793786400-1793797200@hallockville.org
SUMMARY:Sound Avenue Stitchers
DESCRIPTION:The Sound Avenue Stitchers is a small\, friendly group created for sharing and continuing fiber arts traditions.  Fiber arts include sewing\, quilting\, needlepoint\, macrame\, weaving\, felting\, crocheting\, knitting\, embroidery\, rug hooking\, basket weaving and more.  Our group’s mission is to share techniques\, innovations and products\, upcoming events and shops pertaining to fiber arts\, and to socialize while working on our own projects.  We may have demonstrations by fellow stitchers and create items for donation. \nThe Stitchers meet at Hallockville Museum Farm\, in the Hudson-Sydlowski House meeting room\, on the first Wednesday of each month from 10 a.m. to 1 p.m.  Please join us for all things fiber arts and for fun conversations!
URL:https://hallockville.org/events/sound-avenue-stitchers-8/
ATTACH;FMTTYPE=image/png:https://hallockville.org/wp-content/uploads/2026/01/SSSpics.png
END:VEVENT
BEGIN:VEVENT
DTSTART;TZID=America/New_York:20261114T100000
DTEND;TZID=America/New_York:20261114T120000
DTSTAMP:20260419T124406
CREATED:20260115T205827Z
LAST-MODIFIED:20260115T212813Z
UID:17765-1794650400-1794657600@hallockville.org
SUMMARY:Needle Felting Snowman Workshop
DESCRIPTION:Join instructor Michele Miroff\,  Saturday November 14th 10 a.m. to noon\, to learn how to needle felt your very own Bird. \n$30 members\, $40 non-members. \n$25 supplies kit fee payable to instructor at the time of the workshop. \nRegister Here:https://secure.lglforms.com/form_engine/s/BTx4J7jCNO9_0EBnMNCBHg
URL:https://hallockville.org/events/needle-felting-snowman-workshop/
LOCATION:Hudson-Sydlowski House\, 6038 Sound Avenue\, Riverhead\, NY\, 11901-5609\, United States
ATTACH;FMTTYPE=image/jpeg:https://hallockville.org/wp-content/uploads/2026/01/IMG_4757-e1768510696225.jpeg
END:VEVENT
BEGIN:VEVENT
DTSTART;TZID=America/New_York:20261127T090000
DTEND;TZID=America/New_York:20261127T150000
DTSTAMP:20260419T124406
CREATED:20260116T174608Z
LAST-MODIFIED:20260116T174608Z
UID:17795-1795770000-1795791600@hallockville.org
SUMMARY: Country Parlor - Folk Art and Gift Show
DESCRIPTION:Country Parlor  Folk Art and Gift Show returns to the North Fork for one weekend only\, in the Naugles Barn \nVisit Hallockville Museum Farm and experience the transformation of its historic barn into a holiday wonderland and unique shopping experience. The Hallockville Country Parlor features exclusively handcrafted gift items\, artwork\, and holiday décor created by local artisans and craftspeople. Among the array of beautiful\, authentic handmade items will be pottery; baskets; tree ornaments; quilted\, knit\, and woven apparel and home décor; paintings; candles; soaps; and much more!
URL:https://hallockville.org/events/country-parlor-folk-art-and-gift-show-4/
LOCATION:Hallockville Museum Farm – Naugles Barn\, 6038 Sound Ave\, Riverhead\, NY\, 11901\, United States
ATTACH;FMTTYPE=image/jpeg:https://hallockville.org/wp-content/uploads/2026/01/IMG_9142.jpeg
END:VEVENT
BEGIN:VEVENT
DTSTART;TZID=America/New_York:20261128T100000
DTEND;TZID=America/New_York:20261128T150000
DTSTAMP:20260419T124406
CREATED:20260116T174720Z
LAST-MODIFIED:20260116T174720Z
UID:17800-1795860000-1795878000@hallockville.org
SUMMARY: Country Parlor - Folk Art and Gift Show
DESCRIPTION:Country Parlor  Folk Art and Gift Show returns to the North Fork for one weekend only\, in the Naugles Barn \nVisit Hallockville Museum Farm and experience the transformation of its historic barn into a holiday wonderland and unique shopping experience. The Hallockville Country Parlor features exclusively handcrafted gift items\, artwork\, and holiday décor created by local artisans and craftspeople. Among the array of beautiful\, authentic handmade items will be pottery; baskets; tree ornaments; quilted\, knit\, and woven apparel and home décor; paintings; candles; soaps; and much more!
URL:https://hallockville.org/events/country-parlor-folk-art-and-gift-show-5/
LOCATION:Hallockville Museum Farm – Naugles Barn\, 6038 Sound Ave\, Riverhead\, NY\, 11901\, United States
ATTACH;FMTTYPE=image/jpeg:https://hallockville.org/wp-content/uploads/2026/01/IMG_9192.jpeg
END:VEVENT
BEGIN:VEVENT
DTSTART;TZID=America/New_York:20261129T100000
DTEND;TZID=America/New_York:20261129T150000
DTSTAMP:20260419T124406
CREATED:20260116T174910Z
LAST-MODIFIED:20260116T174910Z
UID:17803-1795946400-1795964400@hallockville.org
SUMMARY: Country Parlor - Folk Art and Gift Show
DESCRIPTION:Country Parlor  Folk Art and Gift Show returns to the North Fork for one weekend only\, in the Naugles Barn \nVisit Hallockville Museum Farm and experience the transformation of its historic barn into a holiday wonderland and unique shopping experience. The Hallockville Country Parlor features exclusively handcrafted gift items\, artwork\, and holiday décor created by local artisans and craftspeople. Among the array of beautiful\, authentic handmade items will be pottery; baskets; tree ornaments; quilted\, knit\, and woven apparel and home décor; paintings; candles; soaps; and much more!
URL:https://hallockville.org/events/country-parlor-folk-art-and-gift-show-6/
LOCATION:Hallockville Museum Farm – Naugles Barn\, 6038 Sound Ave\, Riverhead\, NY\, 11901\, United States
ATTACH;FMTTYPE=image/jpeg:https://hallockville.org/wp-content/uploads/2026/01/IMG_9150.jpeg
END:VEVENT
BEGIN:VEVENT
DTSTART;TZID=America/New_York:20261202T100000
DTEND;TZID=America/New_York:20261202T130000
DTSTAMP:20260419T124406
CREATED:20260107T180146Z
LAST-MODIFIED:20260311T201330Z
UID:17657-1796205600-1796216400@hallockville.org
SUMMARY:Sound Avenue Stitchers
DESCRIPTION:The Sound Avenue Stitchers is a small\, friendly group created for sharing and continuing fiber arts traditions.  Fiber arts include sewing\, quilting\, needlepoint\, macrame\, weaving\, felting\, crocheting\, knitting\, embroidery\, rug hooking\, basket weaving and more.  Our group’s mission is to share techniques\, innovations and products\, upcoming events and shops pertaining to fiber arts\, and to socialize while working on our own projects.  We may have demonstrations by fellow stitchers and create items for donation. \nThe Stitchers meet at Hallockville Museum Farm\, in the Hudson-Sydlowski House meeting room\, on the first Wednesday of each month from 10 a.m. to 1 p.m.  Please join us for all things fiber arts and for fun conversations!
URL:https://hallockville.org/events/sound-avenue-stitchers-dec/
ATTACH;FMTTYPE=image/png:https://hallockville.org/wp-content/uploads/2026/01/SSSpics.png
END:VEVENT
END:VCALENDAR