BEGIN:VCALENDAR
VERSION:2.0
PRODID:-//Hallockville Museum Farm - ECPv6.15.20//NONSGML v1.0//EN
CALSCALE:GREGORIAN
METHOD:PUBLISH
X-ORIGINAL-URL:https://hallockville.org
X-WR-CALDESC:Events for Hallockville Museum Farm
REFRESH-INTERVAL;VALUE=DURATION:PT1H
X-Robots-Tag:noindex
X-PUBLISHED-TTL:PT1H
BEGIN:VTIMEZONE
TZID:America/New_York
BEGIN:DAYLIGHT
TZOFFSETFROM:-0500
TZOFFSETTO:-0400
TZNAME:EDT
DTSTART:20240310T070000
END:DAYLIGHT
BEGIN:STANDARD
TZOFFSETFROM:-0400
TZOFFSETTO:-0500
TZNAME:EST
DTSTART:20241103T060000
END:STANDARD
BEGIN:DAYLIGHT
TZOFFSETFROM:-0500
TZOFFSETTO:-0400
TZNAME:EDT
DTSTART:20250309T070000
END:DAYLIGHT
BEGIN:STANDARD
TZOFFSETFROM:-0400
TZOFFSETTO:-0500
TZNAME:EST
DTSTART:20251102T060000
END:STANDARD
BEGIN:DAYLIGHT
TZOFFSETFROM:-0500
TZOFFSETTO:-0400
TZNAME:EDT
DTSTART:20260308T070000
END:DAYLIGHT
BEGIN:STANDARD
TZOFFSETFROM:-0400
TZOFFSETTO:-0500
TZNAME:EST
DTSTART:20261101T060000
END:STANDARD
END:VTIMEZONE
BEGIN:VEVENT
DTSTART;TZID=America/New_York:20251002T180000
DTEND;TZID=America/New_York:20251002T210000
DTSTAMP:20260421T112738
CREATED:20250905T144509Z
LAST-MODIFIED:20250916T195031Z
UID:16912-1759428000-1759438800@hallockville.org
SUMMARY:Mr. Rooster Band - Free Concert
DESCRIPTION:Come for a night out on the farm and bring a picnic as you enjoy a Hallockville Sunset listening to some good music. \n“Mr. Rooster is a swingin’\, rockin’\, and sometimes bluegrassin’ band within the Long Island and NYC jam scenes.” \nMr. Rooster Band will perform an electric set from 6pm to 9pm outside of our Historic Naugles Barn. \nThis is a Free Concert. \nCheck out their music here.
URL:https://hallockville.org/events/mr-rooster-band-free-concert/
LOCATION:Hallockville Museum Farm\, 6038 Sound Avenue\, Riverhead\, NY\, 11901\, United States
CATEGORIES:Free,Music
ATTACH;FMTTYPE=image/jpeg:https://hallockville.org/wp-content/uploads/2025/09/mr-rooster.jpg
END:VEVENT
BEGIN:VEVENT
DTSTART;TZID=America/New_York:20251009T173000
DTEND;TZID=America/New_York:20251009T203000
DTSTAMP:20260421T112738
CREATED:20250701T220716Z
LAST-MODIFIED:20250701T220716Z
UID:16684-1760031000-1760041800@hallockville.org
SUMMARY:Old Time Jam
DESCRIPTION:Join the Old Time Jam as they play old time Appalachian music in The Apple Orchard!\n\n\nThe Old Time Jam is a group of musicians ranging from beginners to professional performers\, everyone is welcome! \n\nAnyone who plays an old time acoustic instruments (fiddle\, banjo\, mandolin\, dulcimer\, guitar or even play the spoons or washboards) or sings may join in. Folks may also come to listen or dance to the music. \nEmail Toni at Lonedoggy@netzero.com with any questions. \n(Photo taken by Ken Eddy)
URL:https://hallockville.org/events/old-time-jam-18/
LOCATION:Hallockville Museum Farm\, 6038 Sound Avenue\, Riverhead\, NY\, 11901\, United States
CATEGORIES:Music
ATTACH;FMTTYPE=image/jpeg:https://hallockville.org/wp-content/uploads/2025/04/otj-e1744561341656.jpg
END:VEVENT
BEGIN:VEVENT
DTSTART;TZID=America/New_York:20251023T173000
DTEND;TZID=America/New_York:20251023T203000
DTSTAMP:20260421T112738
CREATED:20250701T220743Z
LAST-MODIFIED:20251021T150326Z
UID:16687-1761240600-1761251400@hallockville.org
SUMMARY:Old Time Jam
DESCRIPTION:Join the Old Time Jam as they play old time Appalachian music at Riverhead Library!\n\n\nThe Old Time Jam is a group of musicians ranging from beginners to professional performers\, everyone is welcome! \n\nAnyone who plays an old time acoustic instruments (fiddle\, banjo\, mandolin\, dulcimer\, guitar or even play the spoons or washboards) or sings may join in. Folks may also come to listen or dance to the music. \nEmail Toni at Lonedoggy@netzero.com with any questions. \n(Photo taken by Ken Eddy)
URL:https://hallockville.org/events/old-time-jam-19/
LOCATION:Riverhead Library
CATEGORIES:Music
ATTACH;FMTTYPE=image/jpeg:https://hallockville.org/wp-content/uploads/2025/04/otj-e1744561341656.jpg
END:VEVENT
END:VCALENDAR