BEGIN:VCALENDAR
VERSION:2.0
PRODID:-//Hallockville Museum Farm - ECPv6.15.20//NONSGML v1.0//EN
CALSCALE:GREGORIAN
METHOD:PUBLISH
X-ORIGINAL-URL:https://hallockville.org
X-WR-CALDESC:Events for Hallockville Museum Farm
REFRESH-INTERVAL;VALUE=DURATION:PT1H
X-Robots-Tag:noindex
X-PUBLISHED-TTL:PT1H
BEGIN:VTIMEZONE
TZID:America/New_York
BEGIN:DAYLIGHT
TZOFFSETFROM:-0500
TZOFFSETTO:-0400
TZNAME:EDT
DTSTART:20250309T070000
END:DAYLIGHT
BEGIN:STANDARD
TZOFFSETFROM:-0400
TZOFFSETTO:-0500
TZNAME:EST
DTSTART:20251102T060000
END:STANDARD
BEGIN:DAYLIGHT
TZOFFSETFROM:-0500
TZOFFSETTO:-0400
TZNAME:EDT
DTSTART:20260308T070000
END:DAYLIGHT
BEGIN:STANDARD
TZOFFSETFROM:-0400
TZOFFSETTO:-0500
TZNAME:EST
DTSTART:20261101T060000
END:STANDARD
BEGIN:DAYLIGHT
TZOFFSETFROM:-0500
TZOFFSETTO:-0400
TZNAME:EDT
DTSTART:20270314T070000
END:DAYLIGHT
BEGIN:STANDARD
TZOFFSETFROM:-0400
TZOFFSETTO:-0500
TZNAME:EST
DTSTART:20271107T060000
END:STANDARD
END:VTIMEZONE
BEGIN:VEVENT
DTSTART;TZID=America/New_York:20260503T130000
DTEND;TZID=America/New_York:20260503T150000
DTSTAMP:20260422T055650
CREATED:20260120T183931Z
LAST-MODIFIED:20260120T183931Z
UID:17841-1777813200-1777820400@hallockville.org
SUMMARY:The True Story of the Culper Spy Ring Presentation
DESCRIPTION:Learn the true story of the Culper Spy Ring from former Newsday reporter Bill Bleyer\, author of George Washington’s Long Island Spy Ring: A History and Tour Guide. History enthusiasts have long been fascinated by the operation of the Long Island-based Culper Spy Ring during the American Revolution\, especially since the airing of the television series Turn. Over the years\, there have been many legends\, such as the role played by Anna Strong’s clothesline\, and speculations about how the spies operated to support George Washington’s Continental Army.  This PowerPoint presentation separates facts from fiction and details the ingenious operation of the intelligence network that helped the Patriots win the war. \nFree\, but registration is requested. To register\, visit: https://secure.lglforms.com/form_engine/s/5NddQhBw7UF4j3t2uZEBCQ
URL:https://hallockville.org/events/the-true-story-of-the-culper-spy-ring-presentation/
LOCATION:Hallockville Museum Farm – Naugles Barn\, 6038 Sound Ave\, Riverhead\, NY\, 11901\, United States
CATEGORIES:Free,History,Lecture
ATTACH;FMTTYPE=image/jpeg:https://hallockville.org/wp-content/uploads/2026/01/culper-image.jpg
END:VEVENT
END:VCALENDAR