BEGIN:VCALENDAR
VERSION:2.0
PRODID:-//Hallockville Museum Farm - ECPv6.15.20//NONSGML v1.0//EN
CALSCALE:GREGORIAN
METHOD:PUBLISH
X-WR-CALNAME:Hallockville Museum Farm
X-ORIGINAL-URL:https://hallockville.org
X-WR-CALDESC:Events for Hallockville Museum Farm
REFRESH-INTERVAL;VALUE=DURATION:PT1H
X-Robots-Tag:noindex
X-PUBLISHED-TTL:PT1H
BEGIN:VTIMEZONE
TZID:America/New_York
BEGIN:DAYLIGHT
TZOFFSETFROM:-0500
TZOFFSETTO:-0400
TZNAME:EDT
DTSTART:20240310T070000
END:DAYLIGHT
BEGIN:STANDARD
TZOFFSETFROM:-0400
TZOFFSETTO:-0500
TZNAME:EST
DTSTART:20241103T060000
END:STANDARD
BEGIN:DAYLIGHT
TZOFFSETFROM:-0500
TZOFFSETTO:-0400
TZNAME:EDT
DTSTART:20250309T070000
END:DAYLIGHT
BEGIN:STANDARD
TZOFFSETFROM:-0400
TZOFFSETTO:-0500
TZNAME:EST
DTSTART:20251102T060000
END:STANDARD
BEGIN:DAYLIGHT
TZOFFSETFROM:-0500
TZOFFSETTO:-0400
TZNAME:EDT
DTSTART:20260308T070000
END:DAYLIGHT
BEGIN:STANDARD
TZOFFSETFROM:-0400
TZOFFSETTO:-0500
TZNAME:EST
DTSTART:20261101T060000
END:STANDARD
END:VTIMEZONE
BEGIN:VEVENT
DTSTART;TZID=America/New_York:20250827T183000
DTEND;TZID=America/New_York:20250827T203000
DTSTAMP:20260421T065017
CREATED:20250517T174614Z
LAST-MODIFIED:20250804T142834Z
UID:16546-1756319400-1756326600@hallockville.org
SUMMARY:"Get Arty" Paint Party
DESCRIPTION:“Get Arty” with us for a two-hour paint party and connect to your inner artist with Ginger Baer\, a certified art instructor\, at our historical Naugles Barn. \n“Get Arty” instruction promotes self-expression so every 11″ x 14″ canvas artwork will be unique. All materials are provided. No creative or artistic skills are needed! \nLight refreshments will be served. \n$35 members\, $40 non-members \nTo register\, click here: https://secure.lglforms.com/form_engine/s/ZHnW-ZRmcNqJgELhBhENuQ
URL:https://hallockville.org/events/get-arty-paint-party/
LOCATION:Hallockville Museum Farm – Naugles Barn\, 6038 Sound Ave\, Riverhead\, NY\, 11901\, United States
CATEGORIES:Art,Classes
END:VEVENT
END:VCALENDAR